BEGIN:VCALENDAR
PRODID:-//Microsoft Corporation//Outlook 11.0 MIMEDIR//EN
VERSION:2.0
METHOD:PUBLISH
BEGIN:VEVENT
UID:378756db0e7e9891850a1370e022d9e1@http://www.muenstertal-staufen.de/stamue/event/ics/1008204/2025-03-31
DTSTAMP:20260421T084954Z
DTEND;VALUE=DATE:19700101
DTSTART;VALUE=DATE:19700101
LOCATION:Gasthaus Belchenblick Münstertal
SUMMARY:Skat Spieleabend
END:VEVENT
END:VCALENDAR